BEGIN:VCALENDAR
VERSION:2.0
PRODID:-//wp-events-plugin.com//7.2.3.1//EN
TZID:Europe/Berlin
X-WR-TIMEZONE:Europe/Berlin
BEGIN:VEVENT
UID:213@mthc.de
DTSTART;TZID=Europe/Berlin;VALUE=DATE:20250621
DTEND;TZID=Europe/Berlin;VALUE=DATE:20250622
DTSTAMP:20250119T152543Z
URL:https://mthc.de/events/125-jahre-mthc-sommerfest/
SUMMARY:125 Jahre MTHC - Sommerfest
DESCRIPTION:125 Jahre MTHC – Jubiläumsfeier &amp\; Sommerfest am 21. Jun
 i 2025\nLiebe Mitglieder und Freunde des Marienthaler Tennis und Hockey Cl
 ubs\,\ndieses Jahr markiert einen außergewöhnlichen Meilenstein in unser
 er Vereinsgeschichte: Wir feiern 125 Jahre MTHC! Dieses besondere Jubiläu
 m möchten wir am 21. Juni 2025 gebührend mit euch allen feiern – und d
 as wird ein Fest\, das in Erinnerung bleibt.\nUnsere Anlage wird sich an d
 iesem Tag in einen Ort voller Freude\, Musik und Überraschungen verwandel
 n. Von mitreißender Live-Musik\, die für die richtige Stimmung sorgt\, b
 is hin zu Überraschungsgästen\, die uns mit ihren Auftritten begeistern\
 , haben wir ein Programm vorbereitet\, das keine Wünsche offen lässt. F
 ür die kleinen Gäste gibt es eine Spiele-Olympiade voller Spaß und Acti
 on\, während Genießer sich auf hausgemachten Kuchen und frisch Gegrillte
 s freuen können.\nDoch das ist noch lange nicht alles: Im Laufe des Tages
  erwarten euch zahlreiche Überraschungen\, die euch ein Lächeln ins Gesi
 cht zaubern werden. Gemeinsam möchten wir diesen besonderen Tag nutzen\, 
 um unsere Leidenschaft für Sport\, Gemeinschaft und Tradition zu feiern u
 nd die großartige Geschichte unseres Vereins zu würdigen.\nKommt vorbei\
 , bringt eure Familien und Freunde mit und lasst uns gemeinsam 125 Jahre V
 ereinsleben feiern. Wir freuen uns auf einen unvergesslichen Tag voller sp
 ortlicher\, geselliger und musikalischer Höhepunkte – und vor allem dar
 auf\, ihn mit euch zu teilen!\nEuer Team vom Marienthaler Tennis und Hocke
 y Club\n\n - 125 Jahre MTHC - 125 Jahre MTHC - 125 Jahre MTHC - 125 Jahre
  MTHC - 125 Jahre MTHC
ATTACH;FMTTYPE=image/jpeg:https://mthc.de/wp-content/uploads/2025/01/125_M
 THC.png
CATEGORIES:Club Event
LOCATION:MTHC Clubgelände\, \, Deutschland
X-APPLE-STRUCTURED-LOCATION;VALUE=URI;X-ADDRESS=\, Deutschland;X-APPLE-RADI
 US=100;X-TITLE=MTHC Clubgelände:geo:0,0
END:VEVENT
BEGIN:VTIMEZONE
TZID:Europe/Berlin
X-LIC-LOCATION:Europe/Berlin
BEGIN:DAYLIGHT
DTSTART:20250330T030000
TZOFFSETFROM:+0100
TZOFFSETTO:+0200
TZNAME:CEST
END:DAYLIGHT
END:VTIMEZONE
END:VCALENDAR