BEGIN:VCALENDAR
VERSION:2.0
PRODID:-//wp-events-plugin.com//7.2.3.1//EN
TZID:Europe/Berlin
X-WR-TIMEZONE:Europe/Berlin
BEGIN:VEVENT
UID:215@mthc.de
DTSTART;TZID=Europe/Berlin:20251217T100000
DTEND;TZID=Europe/Berlin:20251217T113000
DTSTAMP:20251116T161616Z
URL:https://mthc.de/events/weihnachtssprung-2/
SUMMARY:Weihnachtssprung
DESCRIPTION:XMAS\nS P RUNG\n17.12.2025\n10:00 Uhr -11:30 Uhr\n(ab 9:30 Uhr 
 Einlass)\n14 € (pro Person inkl. Socken und Slush)\n6\,50 EUR pro Person
  für Chicken Nuggets mit Pommes\nund Getränke an der Zapfanlage\n\nWenn 
 Ihr am 17.12. 2025 da seid\, könnt Ihr angeben\, ob Ihr nur Springen oder
  auch Essen wollt.\nZahlung vor Ort – MTHC und Mix-Teams sind alle willk
 ommen (Geschwister auch). Bitte meldet Euch\nüber den Hockeytimer an und 
 tragt unter Infos ein\, wenn Geschwisterkinder / Freunde mit angemeldet\nw
 erden sollen (z. B. plus eine Person „Name“).\n&nbsp\;
ATTACH;FMTTYPE=image/jpeg:https://mthc.de/wp-content/uploads/2024/01/Club-
 Event-im-MTHC.jpg
CATEGORIES:Club Event
LOCATION:MTHC Clubgelände\, \, Deutschland
X-APPLE-STRUCTURED-LOCATION;VALUE=URI;X-ADDRESS=\, Deutschland;X-APPLE-RADI
 US=100;X-TITLE=MTHC Clubgelände:geo:0,0
END:VEVENT
BEGIN:VTIMEZONE
TZID:Europe/Berlin
X-LIC-LOCATION:Europe/Berlin
BEGIN:STANDARD
DTSTART:20251026T020000
TZOFFSETFROM:+0200
TZOFFSETTO:+0100
TZNAME:CET
END:STANDARD
END:VTIMEZONE
END:VCALENDAR